BEGIN:VCALENDAR
VERSION:2.0
PRODID:-//eventon.com NONSGML v1.0//EN
CALSCALE:GREGORIAN
METHOD:PUBLISH
BEGIN:VEVENT
UID:69e74bbeaa96d
DTSTAMP:20260421T100446Z
DTSTART:20230120T200000Z
DTEND:20230120T225000Z
LOCATION:
SUMMARY:Barbetrieb
DESCRIPTION:Jeden Freitag und Samstag ab 21h\,  wenn kein Konzert stattfind
 et\,  "Barbetrieb" im Apollo-Foyer. Ansonsten nach Veranstaltungsende ab ca
 . 22:30h\,  "Barbetrieb" mit DJ Jukebox.\nhttps://www.apollo-elmshorn.de/ev
 ents/barbetrieb-2/
URL:https://www.apollo-elmshorn.de/events/barbetrieb-2/
END:VEVENT
END:VCALENDAR