BEGIN:VCALENDAR
VERSION:2.0
PRODID:-//eventon.com NONSGML v1.0//EN
CALSCALE:GREGORIAN
METHOD:PUBLISH
BEGIN:VEVENT
UID:69e5f2e139470
DTSTAMP:20260420T093321Z
DTSTART:20230119T180000Z
DTEND:20230119T225000Z
LOCATION:
SUMMARY:Philosophie vor Ort
DESCRIPTION:Kant - der Philosoph der ModerneKant\,  obwohl er bereits ein K
 lassiker ist\,  also vermeintlich nur noch von historischem Interesse\,  re
 icht mit seinen Gedanken in unsere Gegenwart hinein\,  mehr als wir ahnen. 
 Das darzustellen\,  ist das Ziel des Vortrags von Dr. Gerhard Stamer. Zunä
 chst werden wir die drei berühmten Kritiken von[..]\nhttps://www.apollo-el
 mshorn.de/events/philosophie-vor-ort/
URL:https://www.apollo-elmshorn.de/events/philosophie-vor-ort/
END:VEVENT
END:VCALENDAR