BEGIN:VCALENDAR
VERSION:2.0
PRODID:-//eventon.com NONSGML v1.0//EN
CALSCALE:GREGORIAN
METHOD:PUBLISH
BEGIN:VEVENT
UID:69e601e7e067f
DTSTAMP:20260420T103727Z
DTSTART:20230316T173000Z
DTEND:20230316T225000Z
LOCATION:
SUMMARY:Philosophie vor Ort
DESCRIPTION:Hegel - Phänomenologie des Geistes Diese Schrift ist eine der 
 bedeutendsten der gesamten Philosophiegeschichte. Wir werden uns besonders 
 mit  der Vorrede derselben befassen. Gerhard Stamer wird referieren\,   w
 as uns der Titel sagt\,  welches die Grundbegriffe der Schrift sind\,   wa
 s Dialektik als Methode bedeutet und inwiefern nach Hegel "Das Geistige all
 ein[..]\nhttps://www.apollo-elmshorn.de/events/philosophie-vor-ort-2/
URL:https://www.apollo-elmshorn.de/events/philosophie-vor-ort-2/
END:VEVENT
END:VCALENDAR