BEGIN:VCALENDAR
VERSION:2.0
PRODID:-//eventon.com NONSGML v1.0//EN
CALSCALE:GREGORIAN
METHOD:PUBLISH
BEGIN:VEVENT
UID:69e6fd76a7d93
DTSTAMP:20260421T043046Z
DTSTART:20230715T170000Z
DTEND:20230715T215000Z
LOCATION:
SUMMARY:The Stics
DESCRIPTION:Die Songs deiner Jugend! Die Hamburger Coverband theSTICs ist e
 ine feste Instanz in St. Paulis Nachtleben und hat darüber hinaus schon so
  manche Bühne in Norddeutschland gerockt. In ihren Shows spielen sich theS
 TICs durch mehrere Jahrzehnte der Musikgeschichte und verleihen den Songs d
 abei ihre ganz eigene Note. theSTICs\,  so wie[..]\nhttps://www.apollo-elms
 horn.de/events/the-stics/
URL:https://www.apollo-elmshorn.de/events/the-stics/
END:VEVENT
END:VCALENDAR